BEGIN:VCALENDAR
VERSION:2.0
PRODID:-//Luca Ragazzini - ECPv6.15.14//NONSGML v1.0//EN
CALSCALE:GREGORIAN
METHOD:PUBLISH
X-ORIGINAL-URL:https://lucaragazzini.com
X-WR-CALDESC:Eventi per Luca Ragazzini
REFRESH-INTERVAL;VALUE=DURATION:PT1H
X-Robots-Tag:noindex
X-PUBLISHED-TTL:PT1H
BEGIN:VTIMEZONE
TZID:UTC
BEGIN:STANDARD
TZOFFSETFROM:+0000
TZOFFSETTO:+0000
TZNAME:UTC
DTSTART:20240101T000000
END:STANDARD
END:VTIMEZONE
BEGIN:VEVENT
DTSTART;TZID=UTC:20250927T100000
DTEND;TZID=UTC:20250928T193000
DTSTAMP:20260420T233330
CREATED:20230111T041119Z
LAST-MODIFIED:20250919T080951Z
UID:816-1758967200-1759087800@lucaragazzini.com
SUMMARY:Macrolibrarsi FEST
DESCRIPTION:Ci vediamo al Macrolibrarsi FEST (27–28/09\, Fiera di Cesena\, ingresso gratuito)!Mi trovi al Padiglione A – Stand G6: porto il mio metodo di Feng Shui classico — pratico\, misurabile\, niente fronzoli. Ti spiego come si svolge una consulenza (step\, tempi\, investimento) e ti suggerisco 2–3 azioni ad alto impatto per iniziare subito. Se vuoi\, passa con una planimetria o l’indirizzo di casa/ufficio: ragioniamo insieme sul tuo obiettivo (lavoro\, benessere\, relazioni). \nDove: Padiglione A – Stand G6Quando: 27–28 settembre 2025Dove: Fiera di Cesena — ingresso gratuito
URL:https://lucaragazzini.com/event/event-one/
LOCATION:Cesena Fiere
CATEGORIES:Seminars
ATTACH;FMTTYPE=image/png:https://lucaragazzini.com/wp-content/uploads/2023/01/Screenshot-2025-09-19-alle-10.07.05.png
END:VEVENT
END:VCALENDAR